BEGIN:VCALENDAR
VERSION:2.0
PRODID:-//Museumsdienst Aachen - ECPv6.15.15//NONSGML v1.0//EN
CALSCALE:GREGORIAN
METHOD:PUBLISH
X-ORIGINAL-URL:https://museumsdienst-aachen.de
X-WR-CALDESC:Veranstaltungen für Museumsdienst Aachen
REFRESH-INTERVAL;VALUE=DURATION:PT1H
X-Robots-Tag:noindex
X-PUBLISHED-TTL:PT1H
BEGIN:VTIMEZONE
TZID:Europe/Berlin
BEGIN:DAYLIGHT
TZOFFSETFROM:+0100
TZOFFSETTO:+0200
TZNAME:CEST
DTSTART:20210328T010000
END:DAYLIGHT
BEGIN:STANDARD
TZOFFSETFROM:+0200
TZOFFSETTO:+0100
TZNAME:CET
DTSTART:20211031T010000
END:STANDARD
BEGIN:DAYLIGHT
TZOFFSETFROM:+0100
TZOFFSETTO:+0200
TZNAME:CEST
DTSTART:20220327T010000
END:DAYLIGHT
BEGIN:STANDARD
TZOFFSETFROM:+0200
TZOFFSETTO:+0100
TZNAME:CET
DTSTART:20221030T010000
END:STANDARD
BEGIN:DAYLIGHT
TZOFFSETFROM:+0100
TZOFFSETTO:+0200
TZNAME:CEST
DTSTART:20230326T010000
END:DAYLIGHT
BEGIN:STANDARD
TZOFFSETFROM:+0200
TZOFFSETTO:+0100
TZNAME:CET
DTSTART:20231029T010000
END:STANDARD
BEGIN:DAYLIGHT
TZOFFSETFROM:+0100
TZOFFSETTO:+0200
TZNAME:CEST
DTSTART:20240331T010000
END:DAYLIGHT
BEGIN:STANDARD
TZOFFSETFROM:+0200
TZOFFSETTO:+0100
TZNAME:CET
DTSTART:20241027T010000
END:STANDARD
END:VTIMEZONE
BEGIN:VEVENT
DTSTART;TZID=Europe/Berlin:20230507T150000
DTEND;TZID=Europe/Berlin:20230507T160000
DTSTAMP:20260424T061021
CREATED:20230406T070510Z
LAST-MODIFIED:20230507T081524Z
UID:10006498-1683471600-1683475200@museumsdienst-aachen.de
SUMMARY:Chronik eines Augenblicks
DESCRIPTION:Führung durch die Sonderausstellung „Chronik eines Augenblicks. Bilder und ihre Geschichten in der Sammlung Fricke“ \nmit Dr. Josef Gülpers \nDie Teilnehmerzahl an Öffentlichen Führungen ist begrenzt\, Reservierungen sind nicht möglich.\nTeilnahmetickets sind ab 30 Minuten vor Beginn der Führung an der Kasse erhältlich. \nMuseumseintritt zzgl. Führung 2\,00 Euro / Treffpunkt Museumskasse \n 
URL:https://museumsdienst-aachen.de/event/chronik-eines-augenblicks-8/
LOCATION:Suermondt-Ludwig-Museum\, Wilhelmstraße 18\, Aachen\, 52070\, Deutschland
CATEGORIES:Führung
ATTACH;FMTTYPE=image/jpeg:https://museumsdienst-aachen.de/wp-content/uploads/2023/03/Axelsson-Ragnar_Rax_Groenland_1997_kad-8xUOzN.tmp_-scaled.jpg
END:VEVENT
BEGIN:VEVENT
DTSTART;TZID=Europe/Berlin:20230507T120000
DTEND;TZID=Europe/Berlin:20230507T130000
DTSTAMP:20260424T061021
CREATED:20230407T065858Z
LAST-MODIFIED:20230507T081524Z
UID:10006510-1683460800-1683464400@museumsdienst-aachen.de
SUMMARY:Kopf und Köpfchen
DESCRIPTION:Kopf und Köpfchen \nmit Dr. Josef Gülpers \nDie Teilnehmerzahl an Öffentlichen Führungen ist begrenzt\, Reservierungen sind nicht möglich.\nTeilnahmetickets sind ab 30 Minuten vor Beginn der Führung an der Kasse erhältlich. \nMuseumseintritt zzgl. Führung 2\,00 Euro / Treffpunkt Museumskasse \n 
URL:https://museumsdienst-aachen.de/event/kopf-und-koepfchen/
LOCATION:Suermondt-Ludwig-Museum\, Wilhelmstraße 18\, Aachen\, 52070\, Deutschland
CATEGORIES:Führung
ATTACH;FMTTYPE=image/jpeg:https://museumsdienst-aachen.de/wp-content/uploads/2023/04/SLM-Bibliothek-Lesesaal-Decke-2-6qwpzt.tmp_.jpg
END:VEVENT
BEGIN:VEVENT
DTSTART;TZID=Europe/Berlin:20230506T150000
DTEND;TZID=Europe/Berlin:20230506T160000
DTSTAMP:20260424T061021
CREATED:20230406T070510Z
LAST-MODIFIED:20230506T075857Z
UID:10006497-1683385200-1683388800@museumsdienst-aachen.de
SUMMARY:Tierdarstellungen in der Kunstgeschichte
DESCRIPTION:Öffentliche Themenführung „Tierdarstellungen in der Kunstgeschichte“ \nMit Veronika Grundei \nDie Teilnehmerzahl an Öffentlichen Führungen ist begrenzt\, Reservierungen sind nicht möglich.\nTeilnahmetickets sind ab 30 Minuten vor Beginn der Führung an der Kasse erhältlich. \nMuseumseintritt zzgl. Führung 2\,00 Euro / Treffpunkt Museumskasse
URL:https://museumsdienst-aachen.de/event/tierdarstellungen-in-der-kunstgeschichte/
LOCATION:Suermondt-Ludwig-Museum\, Wilhelmstraße 18\, Aachen\, 52070\, Deutschland
CATEGORIES:Führung
ATTACH;FMTTYPE=image/jpeg:https://museumsdienst-aachen.de/wp-content/uploads/2023/04/David-Teniers-Anbetung-e1646646572111-Qt56OY.tmp_.jpg
END:VEVENT
BEGIN:VEVENT
DTSTART;TZID=Europe/Berlin:20230329T180000
DTEND;TZID=Europe/Berlin:20230329T190000
DTSTAMP:20260424T061021
CREATED:20230207T040606Z
LAST-MODIFIED:20230329T064250Z
UID:10006337-1680112800-1680116400@museumsdienst-aachen.de
SUMMARY:Chronik eines Augenblicks
DESCRIPTION:Kuratorinnenführung\n\n„Chronik eines Augenblicks. Bilder und ihre Geschichten in der Sammlung Fricke“\nMit Sarvenaz Ayooghi \nAnmeldung erforderlich unter: museumsdienst@mail.aachen.de oder\nTel.: 0241 432-4998 \nMuseumseintritt zzgl. Führung 2\,00 Euro\nTreffpunkt Museumskasse
URL:https://museumsdienst-aachen.de/event/kuratorinnenfuehrung-4/
LOCATION:Suermondt-Ludwig-Museum\, Wilhelmstraße 18\, Aachen\, 52070\, Deutschland
CATEGORIES:Führung
ATTACH;FMTTYPE=image/jpeg:https://museumsdienst-aachen.de/wp-content/uploads/2023/02/Lebeck-Robert_Alfred-Hitchcock_Hamburg-1960_kad-2Yzt8H.tmp_.jpg
END:VEVENT
BEGIN:VEVENT
DTSTART;TZID=Europe/Berlin:20230326T150000
DTEND;TZID=Europe/Berlin:20230326T160000
DTSTAMP:20260424T061021
CREATED:20230207T040606Z
LAST-MODIFIED:20230326T063126Z
UID:10006335-1679842800-1679846400@museumsdienst-aachen.de
SUMMARY:Chronik eines Augenblicks
DESCRIPTION:Sonderausstellung\n\n„Chronik eines Augenblicks. Bilder und ihre Geschichten in der Sammlung Fricke“ \n  \nAnmeldung erforderlich unter: museumsdienst@mail.aachen.de oder\nTel.: 0241 432-4998\n\nMuseumseintritt zzgl. Führung 2\,00 Euro\nTreffpunkt Museumskasse
URL:https://museumsdienst-aachen.de/event/oeffentliche-themenfuehrung-7/
LOCATION:Suermondt-Ludwig-Museum\, Wilhelmstraße 18\, Aachen\, 52070\, Deutschland
CATEGORIES:Führung
ATTACH;FMTTYPE=image/jpeg:https://museumsdienst-aachen.de/wp-content/uploads/2023/02/Lebeck-Robert_Alfred-Hitchcock_Hamburg-1960_kad-2Yzt8H.tmp_.jpg
END:VEVENT
BEGIN:VEVENT
DTSTART;TZID=Europe/Berlin:20230319T150000
DTEND;TZID=Europe/Berlin:20230319T160000
DTSTAMP:20260424T061021
CREATED:20230207T040321Z
LAST-MODIFIED:20230319T061139Z
UID:10006330-1679238000-1679241600@museumsdienst-aachen.de
SUMMARY:Chronik eines Augenblicks
DESCRIPTION:Sonderausstellung\n\n„Chronik eines Augenblicks. Bilder und ihre Geschichten in der Sammlung Fricke“ \nDie Teilnehmerzahl an Öffentlichen Führungen ist begrenzt\, Reservierungen sind nicht möglich.\nTeilnahmetickets sind ab 30 Minuten vor Beginn der Führung an der Kasse erhältlich. \nMuseumseintritt zzgl. Führung 2\,00 Euro\nTreffpunkt Museumskasse
URL:https://museumsdienst-aachen.de/event/oeffentliche-themenfuehrung-6/
LOCATION:Suermondt-Ludwig-Museum\, Wilhelmstraße 18\, Aachen\, 52070\, Deutschland
CATEGORIES:Führung
ATTACH;FMTTYPE=image/jpeg:https://museumsdienst-aachen.de/wp-content/uploads/2023/02/Lebeck-Robert_Alfred-Hitchcock_Hamburg-1960_kad-2Yzt8H.tmp_.jpg
END:VEVENT
BEGIN:VEVENT
DTSTART;TZID=Europe/Berlin:20230315T110000
DTEND;TZID=Europe/Berlin:20230315T120000
DTSTAMP:20260424T061021
CREATED:20230207T040318Z
LAST-MODIFIED:20230315T055856Z
UID:10006326-1678878000-1678881600@museumsdienst-aachen.de
SUMMARY:Mit Baby ins Museum
DESCRIPTION:Frischgebackene Eltern und ihre Babys (0-12 Monate) sind herzlich eingeladen zu einer entspannten Führung unter fachkundiger Leitung!\nWir empfehlen\, ein Tragetuch oder eine Babytrage mitzubringen.\nIm Anschluss besteht die Möglichkeit zum Austausch bei Kaffee & Keksen. \nFührung für Eltern mit Baby (0-1 Jahr)\nLeitung: Juliane Becker\nKosten: 4€ zzgl. Museumseintritt \nEin reservierter Raum\, in dem die Kinderwagen sicher stehen können\, bietet die Möglichkeit zum Rückzug.\nAnmeldung erforderlich unter: museumsdienst@mail.aachen.de oder \nTel.: 0241 432-4998
URL:https://museumsdienst-aachen.de/event/mit-baby-ins-museum/
LOCATION:Suermondt-Ludwig-Museum\, Wilhelmstraße 18\, Aachen\, 52070\, Deutschland
CATEGORIES:Führung
ATTACH;FMTTYPE=image/jpeg:https://museumsdienst-aachen.de/wp-content/uploads/2022/06/PH1_8189_5378-1-e1646646032207-ZozHoZ.tmp_.jpg
END:VEVENT
BEGIN:VEVENT
DTSTART;TZID=Europe/Berlin:20230312T150000
DTEND;TZID=Europe/Berlin:20230312T160000
DTSTAMP:20260424T061021
CREATED:20230207T040315Z
LAST-MODIFIED:20230312T055631Z
UID:10006324-1678633200-1678636800@museumsdienst-aachen.de
SUMMARY:Chronik eines Augenblicks
DESCRIPTION:Sonderausstellung\n\n„Chronik eines Augenblicks. Bilder und ihre Geschichten in der Sammlung Fricke“ \n  \nAnmeldung erforderlich unter: museumsdienst@mail.aachen.de oder\nTel.: 0241 432-4998\n\nMuseumseintritt zzgl. Führung 2\,00 Euro\nTreffpunkt Museumskasse
URL:https://museumsdienst-aachen.de/event/oeffentliche-themenfuehrung-5/
LOCATION:Suermondt-Ludwig-Museum\, Wilhelmstraße 18\, Aachen\, 52070\, Deutschland
CATEGORIES:Führung
ATTACH;FMTTYPE=image/jpeg:https://museumsdienst-aachen.de/wp-content/uploads/2023/02/Lebeck-Robert_Alfred-Hitchcock_Hamburg-1960_kad-2Yzt8H.tmp_.jpg
END:VEVENT
BEGIN:VEVENT
DTSTART;TZID=Europe/Berlin:20230305T120000
DTEND;TZID=Europe/Berlin:20230305T130000
DTSTAMP:20260424T061021
CREATED:20230207T035747Z
LAST-MODIFIED:20230305T055649Z
UID:10006319-1678017600-1678021200@museumsdienst-aachen.de
SUMMARY:Leben\, Handel\, Seelenheil
DESCRIPTION:Kuratorinnenführung\n\n„Leben\, Handel\, Seelenheil. Ein Rundgang durch die neueröffnete Mittelalterabteilung“\n\nMit Dr. Dagmar Preising \nAnmeldung erforderlich unter: museumsdienst@mail.aachen.de oder\nTel.: 0241 432-4998 \nMuseumseintritt zzgl. Führung 2\,00 Euro\nTreffpunkt Museumskasse
URL:https://museumsdienst-aachen.de/event/kuratorinnenfuehrung-3/
LOCATION:Suermondt-Ludwig-Museum\, Wilhelmstraße 18\, Aachen\, 52070\, Deutschland
CATEGORIES:Führung
ATTACH;FMTTYPE=image/jpeg:https://museumsdienst-aachen.de/wp-content/uploads/2022/12/01-Katalonien-Salome-mit-dem-Haupt-Johannes-des-Taeufers_website-VuWCTp.tmp_.jpg
END:VEVENT
BEGIN:VEVENT
DTSTART;TZID=Europe/Berlin:20230212T120000
DTEND;TZID=Europe/Berlin:20230212T130000
DTSTAMP:20260424T061021
CREATED:20221214T095006Z
LAST-MODIFIED:20230112T113613Z
UID:10005586-1676203200-1676206800@museumsdienst-aachen.de
SUMMARY:Kuratorinführung durch die Mittelalter-Abteilung
DESCRIPTION:Kuratorinführung durch die Mittelalter-Abteilung \n1180-1500 Hoch- und Spätmittelalter\nLeben\, Handel\, Heilige\nEngel\, himmlische und irdische Musik\, die Gottesmutter im Wandel der Zeit\, die Verehrung des Christkindes\, Bildwerk und Reliquie sowie das sogenannte handelnde Bildwerk\, das durch Einbeziehung in bestimmte Rituale besonders lebendig wirkte\, sind Themen\, die das Leben und Denken der Menschen im Mittelalter veranschaulichen. Auch ein Kirchenraum als einem wichtigen Zentrum im mittelalterlichen Stadtleben wird rekonstruiert. Darüber hinaus werden wirtschaftshistorische Aspekte angesprochen. Wo kommt das Holz für die niederländische Skulptur und Tafelmalerei her und inwieweit fungierte das Altarretabel als Wirtschaftsfaktor? Ein spannender Rundgang führt in die mittelalterliche Bildwelt in ihrer großen Vielseitigkeit ein. \nmit Dr. Dagmar Preising
URL:https://museumsdienst-aachen.de/event/kuratorinfuehrung-durch-die-mittelalter-abteilung-3/
LOCATION:Suermondt-Ludwig-Museum\, Wilhelmstraße 18\, Aachen\, 52070\, Deutschland
CATEGORIES:Führung
ATTACH;FMTTYPE=image/jpeg:https://museumsdienst-aachen.de/wp-content/uploads/2022/12/02-Jan-van-Coninxloo-Bruessel-Chlavichord-spielende-Nonne_website-PTtQ80.tmp_.jpg
END:VEVENT
BEGIN:VEVENT
DTSTART;TZID=Europe/Berlin:20230114T173000
DTEND;TZID=Europe/Berlin:20230114T190000
DTSTAMP:20260424T061021
CREATED:20221214T094832Z
LAST-MODIFIED:20230112T113427Z
UID:10006167-1673717400-1673722800@museumsdienst-aachen.de
SUMMARY:Theater im Museum: Tingeltangel
DESCRIPTION:TINGELTANGEL im Museumsfoyer\nIn einer Revue aus Liedern und Texten\, lädt das Theater K zum Streifzug ein durch Kiezkneipen und Kaschemmen\, der Begegnung mit schweren Jungs und leichten Mädchen\, Sinnsuchenden\, Melancholikerinnen und Agitatoren aus Beckmanns Figurenkabinett. \n20\,00 €; erm. 15\,00 €\nKarten(vor)verkauf und weitere Termine im Januar: www.theaterk.com
URL:https://museumsdienst-aachen.de/event/theater-im-museum-tingeltangel-10/
LOCATION:Suermondt-Ludwig-Museum\, Wilhelmstraße 18\, Aachen\, 52070\, Deutschland
CATEGORIES:Veranstaltung
ATTACH;FMTTYPE=image/jpeg:https://museumsdienst-aachen.de/wp-content/uploads/2022/11/Theater-K-Foto-PTUqcZ.tmp_.jpg
END:VEVENT
BEGIN:VEVENT
DTSTART;TZID=Europe/Berlin:20230113T193000
DTEND;TZID=Europe/Berlin:20230113T210000
DTSTAMP:20260424T061021
CREATED:20221214T094832Z
LAST-MODIFIED:20230112T113426Z
UID:10006165-1673638200-1673643600@museumsdienst-aachen.de
SUMMARY:Theater im Museum: Tingeltangel
DESCRIPTION:TINGELTANGEL im Museumsfoyer\nIn einer Revue aus Liedern und Texten\, lädt das Theater K zum Streifzug ein durch Kiezkneipen und Kaschemmen\, der Begegnung mit schweren Jungs und leichten Mädchen\, Sinnsuchenden\, Melancholikerinnen und Agitatoren aus Beckmanns Figurenkabinett. \n20\,00 €; erm. 15\,00 €\nKarten(vor)verkauf und weitere Termine im Januar: www.theaterk.com
URL:https://museumsdienst-aachen.de/event/theater-im-museum-tingeltangel-9/
LOCATION:Suermondt-Ludwig-Museum\, Wilhelmstraße 18\, Aachen\, 52070\, Deutschland
CATEGORIES:Veranstaltung
ATTACH;FMTTYPE=image/jpeg:https://museumsdienst-aachen.de/wp-content/uploads/2022/11/Theater-K-Foto-PTUqcZ.tmp_.jpg
END:VEVENT
BEGIN:VEVENT
DTSTART;TZID=Europe/Berlin:20230112T193000
DTEND;TZID=Europe/Berlin:20230112T210000
DTSTAMP:20260424T061021
CREATED:20221214T094830Z
LAST-MODIFIED:20230112T113426Z
UID:10006162-1673551800-1673557200@museumsdienst-aachen.de
SUMMARY:Theater im Museum: Tingeltangel
DESCRIPTION:TINGELTANGEL im Museumsfoyer\nIn einer Revue aus Liedern und Texten\, lädt das Theater K zum Streifzug ein durch Kiezkneipen und Kaschemmen\, der Begegnung mit schweren Jungs und leichten Mädchen\, Sinnsuchenden\, Melancholikerinnen und Agitatoren aus Beckmanns Figurenkabinett. \n20\,00 €; erm. 15\,00 €\nKarten(vor)verkauf und weitere Termine im Januar: www.theaterk.com
URL:https://museumsdienst-aachen.de/event/theater-im-museum-tingeltangel-8/
LOCATION:Suermondt-Ludwig-Museum\, Wilhelmstraße 18\, Aachen\, 52070\, Deutschland
CATEGORIES:Veranstaltung
ATTACH;FMTTYPE=image/jpeg:https://museumsdienst-aachen.de/wp-content/uploads/2022/11/Theater-K-Foto-PTUqcZ.tmp_.jpg
END:VEVENT
BEGIN:VEVENT
DTSTART;TZID=Europe/Berlin:20230107T173000
DTEND;TZID=Europe/Berlin:20230107T190000
DTSTAMP:20260424T061021
CREATED:20221214T094830Z
LAST-MODIFIED:20230107T110056Z
UID:10006159-1673112600-1673118000@museumsdienst-aachen.de
SUMMARY:Theater im Museum: Tingeltangel
DESCRIPTION:TINGELTANGEL im Museumsfoyer\nIn einer Revue aus Liedern und Texten\, lädt das Theater K zum Streifzug ein durch Kiezkneipen und Kaschemmen\, der Begegnung mit schweren Jungs und leichten Mädchen\, Sinnsuchenden\, Melancholikerinnen und Agitatoren aus Beckmanns Figurenkabinett. \n20\,00 €; erm. 15\,00 €\nKarten(vor)verkauf und weitere Termine im Januar: www.theaterk.com
URL:https://museumsdienst-aachen.de/event/theater-im-museum-tingeltangel-7/
LOCATION:Suermondt-Ludwig-Museum\, Wilhelmstraße 18\, Aachen\, 52070\, Deutschland
CATEGORIES:Veranstaltung
ATTACH;FMTTYPE=image/jpeg:https://museumsdienst-aachen.de/wp-content/uploads/2022/11/Theater-K-Foto-PTUqcZ.tmp_.jpg
END:VEVENT
BEGIN:VEVENT
DTSTART;TZID=Europe/Berlin:20230106T193000
DTEND;TZID=Europe/Berlin:20230106T210000
DTSTAMP:20260424T061021
CREATED:20221214T094828Z
LAST-MODIFIED:20230106T111418Z
UID:10006157-1673033400-1673038800@museumsdienst-aachen.de
SUMMARY:Theater im Museum: Tingeltangel
DESCRIPTION:TINGELTANGEL im Museumsfoyer\nIn einer Revue aus Liedern und Texten\, lädt das Theater K zum Streifzug ein durch Kiezkneipen und Kaschemmen\, der Begegnung mit schweren Jungs und leichten Mädchen\, Sinnsuchenden\, Melancholikerinnen und Agitatoren aus Beckmanns Figurenkabinett. \n20\,00 €; erm. 15\,00 €\nKarten(vor)verkauf und weitere Termine im Januar: www.theaterk.com
URL:https://museumsdienst-aachen.de/event/theater-im-museum-tingeltangel-6/
LOCATION:Suermondt-Ludwig-Museum\, Wilhelmstraße 18\, Aachen\, 52070\, Deutschland
CATEGORIES:Veranstaltung
ATTACH;FMTTYPE=image/jpeg:https://museumsdienst-aachen.de/wp-content/uploads/2022/11/Theater-K-Foto-PTUqcZ.tmp_.jpg
END:VEVENT
BEGIN:VEVENT
DTSTART;TZID=Europe/Berlin:20230105T193000
DTEND;TZID=Europe/Berlin:20230105T210000
DTSTAMP:20260424T061021
CREATED:20221214T094828Z
LAST-MODIFIED:20230105T105637Z
UID:10006156-1672947000-1672952400@museumsdienst-aachen.de
SUMMARY:Theater im Museum: Tingeltangel
DESCRIPTION:TINGELTANGEL im Museumsfoyer\nIn einer Revue aus Liedern und Texten\, lädt das Theater K zum Streifzug ein durch Kiezkneipen und Kaschemmen\, der Begegnung mit schweren Jungs und leichten Mädchen\, Sinnsuchenden\, Melancholikerinnen und Agitatoren aus Beckmanns Figurenkabinett. \n20\,00 €; erm. 15\,00 €\nKarten(vor)verkauf und weitere Termine im Januar: www.theaterk.com
URL:https://museumsdienst-aachen.de/event/theater-im-museum-tingeltangel-5/
LOCATION:Suermondt-Ludwig-Museum\, Wilhelmstraße 18\, Aachen\, 52070\, Deutschland
CATEGORIES:Veranstaltung
ATTACH;FMTTYPE=image/jpeg:https://museumsdienst-aachen.de/wp-content/uploads/2022/11/Theater-K-Foto-PTUqcZ.tmp_.jpg
END:VEVENT
BEGIN:VEVENT
DTSTART;TZID=Europe/Berlin:20230104T193000
DTEND;TZID=Europe/Berlin:20230104T210000
DTSTAMP:20260424T061021
CREATED:20221214T094828Z
LAST-MODIFIED:20230104T111330Z
UID:10006154-1672860600-1672866000@museumsdienst-aachen.de
SUMMARY:Theater im Museum: Tingeltangel
DESCRIPTION:TINGELTANGEL im Museumsfoyer\nIn einer Revue aus Liedern und Texten\, lädt das Theater K zum Streifzug ein durch Kiezkneipen und Kaschemmen\, der Begegnung mit schweren Jungs und leichten Mädchen\, Sinnsuchenden\, Melancholikerinnen und Agitatoren aus Beckmanns Figurenkabinett. \n20\,00 €; erm. 15\,00 €\nKarten(vor)verkauf und weitere Termine im Januar: www.theaterk.com
URL:https://museumsdienst-aachen.de/event/theater-im-museum-tingeltangel-4/
LOCATION:Suermondt-Ludwig-Museum\, Wilhelmstraße 18\, Aachen\, 52070\, Deutschland
CATEGORIES:Veranstaltung
ATTACH;FMTTYPE=image/jpeg:https://museumsdienst-aachen.de/wp-content/uploads/2022/11/Theater-K-Foto-PTUqcZ.tmp_.jpg
END:VEVENT
BEGIN:VEVENT
DTSTART;TZID=Europe/Berlin:20221228T110000
DTEND;TZID=Europe/Berlin:20221228T120000
DTSTAMP:20260424T061021
CREATED:20221214T094715Z
LAST-MODIFIED:20221228T102933Z
UID:10006151-1672225200-1672228800@museumsdienst-aachen.de
SUMMARY:Die Bürgerliche Kunstkammer
DESCRIPTION:Museumsführung „Die Bürgerliche Kunstkammer“\nfür Erwachsene und Kinder ab Grundschulalter \nMit Kustos Michael Rief \nDie Museen sind in der Kalenderwoche 52 geöffnet und bieten in dieser Zeit ein kostenloses Programm für Familien an.\nInformation und Anmeldung:\nMuseumsdienst Stadt Aachen\nTel: +49 (0) 241 / 432-4998\nFax: +49 (0) 241 / 432-4989\nMail: museumsdienst@mail.aachen.de\nInternet: www.museumsdienst-aachen.de\nServicezeiten:\nDienstag\, Donnerstag u. Freitag: 09:00 – 14:00 Uhr\nMittwoch: 09:00 – 12:00 Uhr und 14:00 – 17:00 Uhr \n 
URL:https://museumsdienst-aachen.de/event/die-buergerliche-kunstkammer/
LOCATION:Suermondt-Ludwig-Museum\, Wilhelmstraße 18\, Aachen\, 52070\, Deutschland
CATEGORIES:Führung
ATTACH;FMTTYPE=image/jpeg:https://museumsdienst-aachen.de/wp-content/uploads/2022/08/PH1_8557p_5402-e1643883797843-0qJVqR.tmp_.jpg
END:VEVENT
BEGIN:VEVENT
DTSTART;TZID=Europe/Berlin:20221218T173000
DTEND;TZID=Europe/Berlin:20221218T190000
DTSTAMP:20260424T061021
CREATED:20221104T083228Z
LAST-MODIFIED:20221218T092718Z
UID:10005529-1671384600-1671390000@museumsdienst-aachen.de
SUMMARY:Theater im Museum: Tingeltangel
DESCRIPTION:TINGELTANGEL im Museumsfoyer\nIn einer Revue aus Liedern und Texten\, lädt das Theater K zum Streifzug ein durch Kiezkneipen und Kaschemmen\, der Begegnung mit schweren Jungs und leichten Mädchen\, Sinnsuchenden\, Melancholikerinnen und Agitatoren aus Beckmanns Figurenkabinett. \n20\,00 €; erm. 15\,00 €\nKarten(vor)verkauf und weitere Termine im Januar: www.theaterk.com
URL:https://museumsdienst-aachen.de/event/theater-im-museum-tingeltangel-3/
LOCATION:Suermondt-Ludwig-Museum\, Wilhelmstraße 18\, Aachen\, 52070\, Deutschland
CATEGORIES:Veranstaltung
ATTACH;FMTTYPE=image/jpeg:https://museumsdienst-aachen.de/wp-content/uploads/2022/11/Theater-K-Foto-PTUqcZ.tmp_.jpg
END:VEVENT
BEGIN:VEVENT
DTSTART;TZID=Europe/Berlin:20221218T120000
DTEND;TZID=Europe/Berlin:20221218T130000
DTSTAMP:20260424T061021
CREATED:20221214T094713Z
LAST-MODIFIED:20221218T092717Z
UID:10006150-1671364800-1671368400@museumsdienst-aachen.de
SUMMARY:Kuratorinführung durch die Mittelalter-Abteilung
DESCRIPTION:Kuratorinführung durch die Mittelalter-Abteilung \n1180-1500 Hoch- und Spätmittelalter\nLeben\, Handel\, Seelenheil\nEngel\, himmlische und irdische Musik\, die Gottesmutter im Wandel der Zeit\, die Verehrung des Christkindes\, Bildwerk und Reliquie sowie das sogenannte handelnde Bildwerk\, das durch Einbeziehung in bestimmte Rituale besonders lebendig wirkte\, sind Themen\, die das Leben und Denken der Menschen im Mittelalter veranschaulichen. Auch ein Kirchenraum als einem wichtigen Zentrum im mittelalterlichen Stadtleben wird rekonstruiert. Darüber hinaus werden wirtschaftshistorische Aspekte angesprochen. Wo kommt das Holz für die niederländische Skulptur und Tafelmalerei her und inwieweit fungierte das Altarretabel als Wirtschaftsfaktor? Ein spannender Rundgang führt in die mittelalterliche Bildwelt in ihrer großen Vielseitigkeit ein. \nmit Dr. Dagmar Preising
URL:https://museumsdienst-aachen.de/event/kuratorinfuehrung-durch-die-mittelalter-abteilung/
LOCATION:Suermondt-Ludwig-Museum\, Wilhelmstraße 18\, Aachen\, 52070\, Deutschland
CATEGORIES:Führung
ATTACH;FMTTYPE=image/jpeg:https://museumsdienst-aachen.de/wp-content/uploads/2022/12/02-Jan-van-Coninxloo-Bruessel-Chlavichord-spielende-Nonne_website-PTtQ80.tmp_.jpg
END:VEVENT
BEGIN:VEVENT
DTSTART;TZID=Europe/Berlin:20221217T173000
DTEND;TZID=Europe/Berlin:20221217T190000
DTSTAMP:20260424T061021
CREATED:20221104T083228Z
LAST-MODIFIED:20221217T094331Z
UID:10005526-1671298200-1671303600@museumsdienst-aachen.de
SUMMARY:Theater im Museum: Tingeltangel
DESCRIPTION:TINGELTANGEL im Museumsfoyer\nIn einer Revue aus Liedern und Texten\, lädt das Theater K zum Streifzug ein durch Kiezkneipen und Kaschemmen\, der Begegnung mit schweren Jungs und leichten Mädchen\, Sinnsuchenden\, Melancholikerinnen und Agitatoren aus Beckmanns Figurenkabinett. \n20\,00 €; erm. 15\,00 €\nKarten(vor)verkauf und weitere Termine im Januar: www.theaterk.com
URL:https://museumsdienst-aachen.de/event/theater-im-museum-tingeltangel-2/
LOCATION:Suermondt-Ludwig-Museum\, Wilhelmstraße 18\, Aachen\, 52070\, Deutschland
CATEGORIES:Veranstaltung
ATTACH;FMTTYPE=image/jpeg:https://museumsdienst-aachen.de/wp-content/uploads/2022/11/Theater-K-Foto-PTUqcZ.tmp_.jpg
END:VEVENT
BEGIN:VEVENT
DTSTART;TZID=Europe/Berlin:20221216T193000
DTEND;TZID=Europe/Berlin:20221216T210000
DTSTAMP:20260424T061021
CREATED:20221104T082610Z
LAST-MODIFIED:20221216T092732Z
UID:10006120-1671219000-1671224400@museumsdienst-aachen.de
SUMMARY:Theater im Museum: Tingeltangel
DESCRIPTION:TINGELTANGEL im Museumsfoyer\nIn einer Revue aus Liedern und Texten\, lädt das Theater K zum Streifzug ein durch Kiezkneipen und Kaschemmen\, der Begegnung mit schweren Jungs und leichten Mädchen\, Sinnsuchenden\, Melancholikerinnen und Agitatoren aus Beckmanns Figurenkabinett. \n20\,00 €; erm. 15\,00 €\nKarten(vor)verkauf und weitere Termine im Januar: www.theaterk.com
URL:https://museumsdienst-aachen.de/event/theater-im-museum-tingeltangel/
LOCATION:Suermondt-Ludwig-Museum\, Wilhelmstraße 18\, Aachen\, 52070\, Deutschland
CATEGORIES:Veranstaltung
ATTACH;FMTTYPE=image/jpeg:https://museumsdienst-aachen.de/wp-content/uploads/2022/11/Theater-K-Foto-PTUqcZ.tmp_.jpg
END:VEVENT
BEGIN:VEVENT
DTSTART;TZID=Europe/Berlin:20221208T190000
DTEND;TZID=Europe/Berlin:20221208T200000
DTSTAMP:20260424T061021
CREATED:20221104T082439Z
LAST-MODIFIED:20221116T085939Z
UID:10006113-1670526000-1670529600@museumsdienst-aachen.de
SUMMARY:Walter Hasenclever und Max Beckmann – von Kriegsbegeisterten zu radikalen Pazifisten
DESCRIPTION:„Walter Hasenclever und Max Beckmann – von Kriegsbegeisterten zu radikalen Pazifisten“\nAxel Schneider und Jürgen Lauer\nVortragssaal des Museums / Eintritt frei \nOrt: Vortragssaal im SLM \nAnmeldung nicht erforderlich
URL:https://museumsdienst-aachen.de/event/walter-hasenclever-und-max-beckmann-von-kriegsbegeisterten-zu-radikalen-pazifisten/
LOCATION:Suermondt-Ludwig-Museum\, Wilhelmstraße 18\, Aachen\, 52070\, Deutschland
CATEGORIES:Vortrag
ATTACH;FMTTYPE=image/jpeg:https://museumsdienst-aachen.de/wp-content/uploads/2022/09/Beckmann_Ausrufer_Foto-Anne-Gold-e1664187138530-OZZVaI.tmp_.jpg
END:VEVENT
BEGIN:VEVENT
DTSTART;TZID=Europe/Berlin:20221202T180000
DTEND;TZID=Europe/Berlin:20221202T203000
DTSTAMP:20260424T061021
CREATED:20221104T082430Z
LAST-MODIFIED:20221116T085932Z
UID:10005521-1670004000-1670013000@museumsdienst-aachen.de
SUMMARY:Absinth Tasting
DESCRIPTION:Rahmenprogramm zu \nMax Beckmann. Loge im Welttheater \nBECKMANNS „GRÜNE STUNDE“\nAbsinth Tasting und Führung in historischem Ambiente\nDer Abend startet mit einer Führung durch die Ausstellung. Das Tasting begleitet ab 19.00 Uhr Herr Kinting von der Aachener Bar Grotesque im Gespräch mit Kuratorin Wibke Birth;\nmit anschaulichen Geschichten und allerhand Wissenswertem\, Sagenhaften und Kuriosem rund um den sog. grünen Engel. \nKosten: 24\,00 €\nVerbindliche Anmeldung unter: eventslm@mail.aachen.de  \n 
URL:https://museumsdienst-aachen.de/event/absinth-tasting-2/
LOCATION:Suermondt-Ludwig-Museum\, Wilhelmstraße 18\, Aachen\, 52070\, Deutschland
CATEGORIES:Veranstaltung
ATTACH;FMTTYPE=image/jpeg:https://museumsdienst-aachen.de/wp-content/uploads/2022/11/Absinth-Tasting-Vorschlag-2-scaled-i2LHDk.tmp_.jpg
END:VEVENT
BEGIN:VEVENT
DTSTART;TZID=Europe/Berlin:20221106T110000
DTEND;TZID=Europe/Berlin:20221106T110000
DTSTAMP:20260424T061021
CREATED:20221008T065700Z
LAST-MODIFIED:20221106T081314Z
UID:10005499-1667732400-1667732400@museumsdienst-aachen.de
SUMMARY:Young\, European Jazz made in NRW
DESCRIPTION:Rahmenprogramm zu \nMax Beckmann. Loge im Welttheater \nJazz-Konzert Young\, European Jazz made in NRW \nUrsula Wienken (Bass) und Leon Hattori (Klavier) \nDie 20-jährige Bassistin\, Bandleaderin und Komponistin Ursula Wienken studiert in der Bass-Klasse an der Musikhochschule Köln. Ähnlich wie Max Beckmann seine letzte Grafikmappe Day and Dream betitelte\, definiert Wienken ihre Musik als die Verbindung des Träumerischen und des Überraschenden. \nBeim Aufeinandertreffen und der Begegnung dieser beiden Ansätze wird sie von Leon Hattori am historischen Flügel des SLM begleitet. \nIm Museumsfoyer – Eintritt frei \n 
URL:https://museumsdienst-aachen.de/event/jazz-konzert/
LOCATION:Suermondt-Ludwig-Museum\, Wilhelmstraße 18\, Aachen\, 52070\, Deutschland
CATEGORIES:Führung,Konzert,Veranstaltung,Workshops
ATTACH;FMTTYPE=image/jpeg:https://museumsdienst-aachen.de/wp-content/uploads/2022/09/Beckmann_Ausrufer_Foto-Anne-Gold-e1664187138530-OZZVaI.tmp_.jpg
END:VEVENT
BEGIN:VEVENT
DTSTART;TZID=Europe/Berlin:20221104T180000
DTEND;TZID=Europe/Berlin:20221104T203000
DTSTAMP:20260424T061021
CREATED:20221104T081317Z
LAST-MODIFIED:20221104T085703Z
UID:10005519-1667584800-1667593800@museumsdienst-aachen.de
SUMMARY:Absinth Tasting
DESCRIPTION:Rahmenprogramm zu \nMax Beckmann. Loge im Welttheater \nBECKMANNS „GRÜNE STUNDE“\nAbsinth Tasting und Führung in historischem Ambiente\nDer Abend startet mit einer Führung durch die Ausstellung. Das Tasting begleitet ab 19.00 Uhr Herr Kinting von der Aachener Bar Grotesque im Gespräch mit Kuratorin Wibke Birth;\nmit anschaulichen Geschichten und allerhand Wissenswertem\, Sagenhaften und Kuriosem rund um den sog. grünen Engel. \nKosten: 24\,00 €\nVerbindliche Anmeldung unter: eventslm@mail.aachen.de  \n 
URL:https://museumsdienst-aachen.de/event/absinth-tasting/
LOCATION:Suermondt-Ludwig-Museum\, Wilhelmstraße 18\, Aachen\, 52070\, Deutschland
CATEGORIES:Veranstaltung
ATTACH;FMTTYPE=image/jpeg:https://museumsdienst-aachen.de/wp-content/uploads/2022/11/Absinth-Tasting-Vorschlag-2-scaled-i2LHDk.tmp_.jpg
END:VEVENT
BEGIN:VEVENT
DTSTART;TZID=Europe/Berlin:20221101T110000
DTEND;TZID=Europe/Berlin:20221101T120000
DTSTAMP:20260424T061021
CREATED:20221008T065655Z
LAST-MODIFIED:20221101T081253Z
UID:10005490-1667300400-1667304000@museumsdienst-aachen.de
SUMMARY:Der Kampf mit dem Engel. Ein Zyklus von Herbert Falken
DESCRIPTION:Öffentliche Themenführung\nDer Kampf mit dem Engel. Ein Zyklus von Herbert Falken\nMit Sylvia Böhmer \nMuseumseintritt zzgl. Führung 2\,00 Euro\nTreffpunkt Museumskasse \n 
URL:https://museumsdienst-aachen.de/event/der-kampf-mit-dem-engel-ein-zyklus-von-herbert-falken/
LOCATION:Suermondt-Ludwig-Museum\, Wilhelmstraße 18\, Aachen\, 52070\, Deutschland
CATEGORIES:Führung
ATTACH;FMTTYPE=image/jpeg:https://museumsdienst-aachen.de/wp-content/uploads/2022/09/Falken-Foto-Klaus-Fritsch-mlXfOw.tmp_.jpg
END:VEVENT
END:VCALENDAR