BEGIN:VCALENDAR
VERSION:2.0
PRODID:-//Museumsdienst Aachen - ECPv6.15.15//NONSGML v1.0//EN
CALSCALE:GREGORIAN
METHOD:PUBLISH
X-WR-CALNAME:Museumsdienst Aachen
X-ORIGINAL-URL:https://museumsdienst-aachen.de
X-WR-CALDESC:Veranstaltungen für Museumsdienst Aachen
REFRESH-INTERVAL;VALUE=DURATION:PT1H
X-Robots-Tag:noindex
X-PUBLISHED-TTL:PT1H
BEGIN:VTIMEZONE
TZID:Europe/Berlin
BEGIN:DAYLIGHT
TZOFFSETFROM:+0100
TZOFFSETTO:+0200
TZNAME:CEST
DTSTART:20210328T010000
END:DAYLIGHT
BEGIN:STANDARD
TZOFFSETFROM:+0200
TZOFFSETTO:+0100
TZNAME:CET
DTSTART:20211031T010000
END:STANDARD
BEGIN:DAYLIGHT
TZOFFSETFROM:+0100
TZOFFSETTO:+0200
TZNAME:CEST
DTSTART:20220327T010000
END:DAYLIGHT
BEGIN:STANDARD
TZOFFSETFROM:+0200
TZOFFSETTO:+0100
TZNAME:CET
DTSTART:20221030T010000
END:STANDARD
BEGIN:DAYLIGHT
TZOFFSETFROM:+0100
TZOFFSETTO:+0200
TZNAME:CEST
DTSTART:20230326T010000
END:DAYLIGHT
BEGIN:STANDARD
TZOFFSETFROM:+0200
TZOFFSETTO:+0100
TZNAME:CET
DTSTART:20231029T010000
END:STANDARD
BEGIN:DAYLIGHT
TZOFFSETFROM:+0100
TZOFFSETTO:+0200
TZNAME:CEST
DTSTART:20240331T010000
END:DAYLIGHT
BEGIN:STANDARD
TZOFFSETFROM:+0200
TZOFFSETTO:+0100
TZNAME:CET
DTSTART:20241027T010000
END:STANDARD
END:VTIMEZONE
BEGIN:VEVENT
DTSTART;TZID=Europe/Berlin:20230618T140000
DTEND;TZID=Europe/Berlin:20230618T160000
DTSTAMP:20260423T162600
CREATED:20230321T164711Z
LAST-MODIFIED:20230613T174246Z
UID:10006442-1687096800-1687104000@museumsdienst-aachen.de
SUMMARY:DEMO-Workshop
DESCRIPTION:DIY – Demo-Workshops in der Kunstwerkstatt\nAn jedem dritten Wochenende im Monat geben Künstler*innen\, Designer*innen und Kunsthistoriker*innen Einblicke in fachspezifische kreative Techniken. In 2-stündigen Demo-Workshops wird auf spezielle Werkstoffe und kreative Methoden eingegangen. Techniken und deren Gestaltungsmöglichkeiten werden demonstriert und können in kleinem Umfang ausprobiert werden. Mit diesem Angebot stellt das Ludwig Forum die vielseitigen Möglichkeiten in Museum und Kunstwerkstatt vor und gibt den Gästen Inspirationen für eigene Projekte mit auf den Weg. \nKosten 10 €\, zzgl. Museumseintritt \nAufgrund der großen Nachfrage ist eine Anmeldung erforderlich bis jeweils zum Freitag vorher\, 12 Uhr. Bitte geben Sie bei der Anmeldung Ihren Namen und Ihre Adresse an. Im Anschluss erhalten Sie eine Anmeldebestätigung. \nAlle Kurse im Ludwig Forum sind barrierefrei und inklusiv. Für individuelle Absprachen nehmen Sie bitte Kontakt mit dem Museumsdienst auf. \nDer DEMO-Workshop am 21.05.2023 entfällt aufgrund des Internationalen Museumstags. \n \nMosaikeffekte in Acryl\, 18.06.2023\, 14 – 16 Uhr\nmit der Künstlerin Maren Hoch \nDas Mosaik ist eine altbekannte und beliebte Gattung der Bildenden Künste\, bei der durch das Zusammenfügen von verschiedenfarbigen oder verschieden geformten Teilen geometrische Muster oder figürliche Bilder entstehen. Im Workshop lassen wir durch Abklebetechnik monochrome Acrylfarbflächen entstehen und schaffen dadurch individuelle Gemälde mit Mosaikeffekt. \nDer DEMO-Workshop am 16.07.2023 entfällt aufgrund der Sommerferien. \n\nDANCING IN THE DARK\, Sa\, 26.08.2023\, 14 – 16 Uhrmit der Performance-Künstlerin und Choreografin Tanja Kodlin „Die Kampfszene in Slow-Motion gegen Nicht-Sichtbare Gefahren verhandelt den Körper zwischen Erstarrung und Selbstbehauptung.“ Der Fokus des Workshops liegt auf der verlangsamten Bewegung. Durch Übungen in Zeitlupe wird in die Bewegungsqualität der Slow-Motion eingetaucht und die eigene Körperwahrnehmung sensibilisiert. Die Teilnehmenden werden dazu ermutigt\, eine individuell gewählte Kampfsituation zu gestalten und mit Bewegungen des Ausweichens zu experimentieren. Angreifende Elemente wie Personen\, Gegenstände\, Situationen und Emotionen geschehen lediglich in unserer Imagination.
URL:https://museumsdienst-aachen.de/event/demo-workshop-14/
LOCATION:Ludwig Forum für Internationale Kunst Aachen
CATEGORIES:Workshop
END:VEVENT
BEGIN:VEVENT
DTSTART;TZID=Europe/Berlin:20230615T170000
DTEND;TZID=Europe/Berlin:20230615T180000
DTSTAMP:20260423T162600
CREATED:20230404T171052Z
LAST-MODIFIED:20230613T174246Z
UID:10006490-1686848400-1686852000@museumsdienst-aachen.de
SUMMARY:Öffentliche Führung
DESCRIPTION:Öffentliche Führungen finden immer donnerstags um 17 Uhr und sonntags um 15 Uhr statt. Tickets sind 30 Minuten vor Führungsbeginn an den Museumskassen erhältlich. \nKosten: 2\,00 € zzgl. Museumseintritt\nTreffpunkt: Museumskasse \nInformation\nmuseumsdienst[at]mail.aachen.de\n+49 241 432 4998
URL:https://museumsdienst-aachen.de/event/oeffentliche-fuehrung-9/
LOCATION:Ludwig Forum für Internationale Kunst Aachen
CATEGORIES:Führung
END:VEVENT
BEGIN:VEVENT
DTSTART;TZID=Europe/Berlin:20230611T150000
DTEND;TZID=Europe/Berlin:20230611T160000
DTSTAMP:20260423T162600
CREATED:20230321T165053Z
LAST-MODIFIED:20230606T180026Z
UID:10006450-1686495600-1686499200@museumsdienst-aachen.de
SUMMARY:Öffentliche Führung
DESCRIPTION:Öffentliche Führungen finden immer donnerstags um 17 Uhr und sonntags um 15 Uhr statt. Tickets sind 30 Minuten vor Führungsbeginn an den Museumskassen erhältlich. \nKosten: 2\,00 € zzgl. Museumseintritt\nTreffpunkt: Museumskasse \nInformation\nmuseumsdienst[at]mail.aachen.de\n+49 241 432 4998
URL:https://museumsdienst-aachen.de/event/oeffentliche-fuehrung-185/
LOCATION:Ludwig Forum für Internationale Kunst Aachen
CATEGORIES:Führung
END:VEVENT
BEGIN:VEVENT
DTSTART;TZID=Europe/Berlin:20230611T140000
DTEND;TZID=Europe/Berlin:20230611T160000
DTSTAMP:20260423T162600
CREATED:20230328T172959Z
LAST-MODIFIED:20230606T180026Z
UID:10006453-1686492000-1686499200@museumsdienst-aachen.de
SUMMARY:Sonntagsmalerei
DESCRIPTION:An jedem zweiten Sonntag im Monat findet sonntags ein Workshop für Kinder und Erwachsene statt. Inspiriert durch die aktuellen Ausstellungen werden in der Werkstatt verschiedene Werkstoffe und künstlerische Techniken erprobt. \nKosten\nErwachsene: 8\,00 €\, zzgl. Museumseintritt\nKinder: 4\,00 € \nAktuelle Termine finden Sie in unserem Kalender. \nAlle Kurse im Ludwig Forum sind barrierefrei und inklusiv.\nFür individuelle Absprachen nehmen Sie bitte Kontakt mit dem Museumsdienst auf:\nmuseumsdienst[at]mail.aachen.de\n+49 241 432 4998
URL:https://museumsdienst-aachen.de/event/sonntagsmalerei-2/
LOCATION:Ludwig Forum für Internationale Kunst Aachen
CATEGORIES:Workshop
END:VEVENT
BEGIN:VEVENT
DTSTART;TZID=Europe/Berlin:20230608T170000
DTEND;TZID=Europe/Berlin:20230608T180000
DTSTAMP:20260423T162600
CREATED:20230404T170848Z
LAST-MODIFIED:20230606T180025Z
UID:10006489-1686243600-1686247200@museumsdienst-aachen.de
SUMMARY:Öffentliche Führung
DESCRIPTION:Öffentliche Führungen finden immer donnerstags um 17 Uhr und sonntags um 15 Uhr statt. Tickets sind 30 Minuten vor Führungsbeginn an den Museumskassen erhältlich. \nKosten: 2\,00 € zzgl. Museumseintritt\nTreffpunkt: Museumskasse \nInformation\nmuseumsdienst[at]mail.aachen.de\n+49 241 432 4998
URL:https://museumsdienst-aachen.de/event/oeffentliche-fuehrung-8/
LOCATION:Ludwig Forum für Internationale Kunst Aachen
CATEGORIES:Führung
END:VEVENT
BEGIN:VEVENT
DTSTART;TZID=Europe/Berlin:20230604T150000
DTEND;TZID=Europe/Berlin:20230604T160000
DTSTAMP:20260423T162600
CREATED:20230321T165053Z
LAST-MODIFIED:20230530T172634Z
UID:10006449-1685890800-1685894400@museumsdienst-aachen.de
SUMMARY:Öffentliche Führung
DESCRIPTION:Öffentliche Führungen finden immer donnerstags um 17 Uhr und sonntags um 15 Uhr statt. Tickets sind 30 Minuten vor Führungsbeginn an den Museumskassen erhältlich. \nKosten: 2\,00 € zzgl. Museumseintritt\nTreffpunkt: Museumskasse \nInformation\nmuseumsdienst[at]mail.aachen.de\n+49 241 432 4998
URL:https://museumsdienst-aachen.de/event/oeffentliche-fuehrung-184/
LOCATION:Ludwig Forum für Internationale Kunst Aachen
CATEGORIES:Führung
END:VEVENT
BEGIN:VEVENT
DTSTART;TZID=Europe/Berlin:20230604T100000
DTEND;TZID=Europe/Berlin:20230806T170000
DTSTAMP:20260423T162600
CREATED:20230530T172633Z
LAST-MODIFIED:20230530T172633Z
UID:10006595-1685872800-1691341200@museumsdienst-aachen.de
SUMMARY:Zwischen Schwarz und Weiß
DESCRIPTION:Preisverleihung und Eröffnung\nSonntag\, 04.06.2023\, 12 Uhr \nMehr als 220 Kinder aus der Stadt und StädteRegion Aachen haben in den letzten Monaten mit unterschiedlichen Materialien experimentiert\, Ideen gesammelt\, gemalt und gestaltet. \nAll das\, was zum Thema Zwischen Schwarz und Weiß in den Grundschulkursen des Förderprogramms Aachener Modell entstanden ist\, präsentiert sich hier in einer vielseitigen Ausstellung. Wie in jedem Jahr wurden von einer fünfköpfigen Jury aus allen Beiträgen fünf Kunstwerke ausgewählt und mit dem 14. Kinder-Förderpreis KUNST ausgezeichnet. \nDer Kinder-Förderpreis KUNST wird unterstützt von der Sparkassen Bürgerstiftung für die Region Aachen.
URL:https://museumsdienst-aachen.de/event/zwischen-schwarz-und-weiss/
LOCATION:Ludwig Forum für Internationale Kunst Aachen
CATEGORIES:Ausstellung
ATTACH;FMTTYPE=image/jpeg:https://museumsdienst-aachen.de/wp-content/uploads/2023/05/IMAGE-tnlt2S.tmp_.jpg
END:VEVENT
BEGIN:VEVENT
DTSTART;TZID=Europe/Berlin:20230601T170000
DTEND;TZID=Europe/Berlin:20230601T180000
DTSTAMP:20260423T162600
CREATED:20230404T170847Z
LAST-MODIFIED:20230530T172633Z
UID:10006488-1685638800-1685642400@museumsdienst-aachen.de
SUMMARY:Öffentliche Führung
DESCRIPTION:Öffentliche Führungen finden immer donnerstags um 17 Uhr und sonntags um 15 Uhr statt. Tickets sind 30 Minuten vor Führungsbeginn an den Museumskassen erhältlich. \nKosten: 2\,00 € zzgl. Museumseintritt\nTreffpunkt: Museumskasse \nInformation\nmuseumsdienst[at]mail.aachen.de\n+49 241 432 4998
URL:https://museumsdienst-aachen.de/event/oeffentliche-fuehrung-7/
LOCATION:Ludwig Forum für Internationale Kunst Aachen
CATEGORIES:Führung
END:VEVENT
BEGIN:VEVENT
DTSTART;TZID=Europe/Berlin:20230528T150000
DTEND;TZID=Europe/Berlin:20230528T160000
DTSTAMP:20260423T162600
CREATED:20230321T165053Z
LAST-MODIFIED:20230523T172908Z
UID:10006448-1685286000-1685289600@museumsdienst-aachen.de
SUMMARY:Öffentliche Führung
DESCRIPTION:Öffentliche Führungen finden immer donnerstags um 17 Uhr und sonntags um 15 Uhr statt. Tickets sind 30 Minuten vor Führungsbeginn an den Museumskassen erhältlich. \nKosten: 2\,00 € zzgl. Museumseintritt\nTreffpunkt: Museumskasse \nInformation\nmuseumsdienst[at]mail.aachen.de\n+49 241 432 4998
URL:https://museumsdienst-aachen.de/event/oeffentliche-fuehrung-183/
LOCATION:Ludwig Forum für Internationale Kunst Aachen
CATEGORIES:Führung
END:VEVENT
BEGIN:VEVENT
DTSTART;TZID=Europe/Berlin:20230525T170000
DTEND;TZID=Europe/Berlin:20230525T180000
DTSTAMP:20260423T162600
CREATED:20230404T170844Z
LAST-MODIFIED:20230523T172908Z
UID:10006486-1685034000-1685037600@museumsdienst-aachen.de
SUMMARY:Öffentliche Führung
DESCRIPTION:Öffentliche Führungen finden immer donnerstags um 17 Uhr und sonntags um 15 Uhr statt. Tickets sind 30 Minuten vor Führungsbeginn an den Museumskassen erhältlich. \nKosten: 2\,00 € zzgl. Museumseintritt\nTreffpunkt: Museumskasse \nInformation\nmuseumsdienst[at]mail.aachen.de\n+49 241 432 4998
URL:https://museumsdienst-aachen.de/event/oeffentliche-fuehrung-6/
LOCATION:Ludwig Forum für Internationale Kunst Aachen
CATEGORIES:Führung
END:VEVENT
BEGIN:VEVENT
DTSTART;TZID=Europe/Berlin:20230521T150000
DTEND;TZID=Europe/Berlin:20230521T160000
DTSTAMP:20260423T162600
CREATED:20230321T165052Z
LAST-MODIFIED:20230516T171433Z
UID:10006447-1684681200-1684684800@museumsdienst-aachen.de
SUMMARY:Öffentliche Führung
DESCRIPTION:Öffentliche Führungen finden immer donnerstags um 17 Uhr und sonntags um 15 Uhr statt. Tickets sind 30 Minuten vor Führungsbeginn an den Museumskassen erhältlich. \nKosten: 2\,00 € zzgl. Museumseintritt\nTreffpunkt: Museumskasse \nInformation\nmuseumsdienst[at]mail.aachen.de\n+49 241 432 4998
URL:https://museumsdienst-aachen.de/event/oeffentliche-fuehrung-182/
LOCATION:Ludwig Forum für Internationale Kunst Aachen
CATEGORIES:Führung
END:VEVENT
BEGIN:VEVENT
DTSTART;TZID=Europe/Berlin:20230521T140000
DTEND;TZID=Europe/Berlin:20230521T160000
DTSTAMP:20260423T162600
CREATED:20230321T164711Z
LAST-MODIFIED:20230516T171433Z
UID:10006441-1684677600-1684684800@museumsdienst-aachen.de
SUMMARY:DEMO-Workshop
DESCRIPTION:DIY – Demo-Workshops in der Kunstwerkstatt\nAn jedem dritten Wochenende im Monat geben Künstler*innen\, Designer*innen und Kunsthistoriker*innen Einblicke in fachspezifische kreative Techniken. In 2-stündigen Demo-Workshops wird auf spezielle Werkstoffe und kreative Methoden eingegangen. Techniken und deren Gestaltungsmöglichkeiten werden demonstriert und können in kleinem Umfang ausprobiert werden. Mit diesem Angebot stellt das Ludwig Forum die vielseitigen Möglichkeiten in Museum und Kunstwerkstatt vor und gibt den Gästen Inspirationen für eigene Projekte mit auf den Weg. \nKosten 10 €\, zzgl. Museumseintritt \nAufgrund der großen Nachfrage ist eine Anmeldung erforderlich bis jeweils zum Freitag vorher\, 12 Uhr. Bitte geben Sie bei der Anmeldung Ihren Namen und Ihre Adresse an. Im Anschluss erhalten Sie eine Anmeldebestätigung. \nAlle Kurse im Ludwig Forum sind barrierefrei und inklusiv. Für individuelle Absprachen nehmen Sie bitte Kontakt mit dem Museumsdienst auf. \nDer DEMO-Workshop am 21.05.2023 entfällt aufgrund des Internationalen Museumstags. \n \nMosaikeffekte in Acryl\, 18.06.2023\, 14 – 16 Uhr\nmit der Künstlerin Maren Hoch \nDas Mosaik ist eine altbekannte und beliebte Gattung der Bildenden Künste\, bei der durch das Zusammenfügen von verschiedenfarbigen oder verschieden geformten Teilen geometrische Muster oder figürliche Bilder entstehen. Im Workshop lassen wir durch Abklebetechnik monochrome Acrylfarbflächen entstehen und schaffen dadurch individuelle Gemälde mit Mosaikeffekt. \nDer DEMO-Workshop am 16.07.2023 entfällt aufgrund der Sommerferien. \n\nDANCING IN THE DARK\, Sa\, 26.08.2023\, 14 – 16 Uhrmit der Performance-Künstlerin und Choreografin Tanja Kodlin „Die Kampfszene in Slow-Motion gegen Nicht-Sichtbare Gefahren verhandelt den Körper zwischen Erstarrung und Selbstbehauptung.“ Der Fokus des Workshops liegt auf der verlangsamten Bewegung. Durch Übungen in Zeitlupe wird in die Bewegungsqualität der Slow-Motion eingetaucht und die eigene Körperwahrnehmung sensibilisiert. Die Teilnehmenden werden dazu ermutigt\, eine individuell gewählte Kampfsituation zu gestalten und mit Bewegungen des Ausweichens zu experimentieren. Angreifende Elemente wie Personen\, Gegenstände\, Situationen und Emotionen geschehen lediglich in unserer Imagination.
URL:https://museumsdienst-aachen.de/event/demo-workshop-13/
LOCATION:Ludwig Forum für Internationale Kunst Aachen
CATEGORIES:Workshop
END:VEVENT
BEGIN:VEVENT
DTSTART;TZID=Europe/Berlin:20230518T170000
DTEND;TZID=Europe/Berlin:20230518T180000
DTSTAMP:20260423T162600
CREATED:20230404T170557Z
LAST-MODIFIED:20230516T171431Z
UID:10006485-1684429200-1684432800@museumsdienst-aachen.de
SUMMARY:Öffentliche Führung
DESCRIPTION:Öffentliche Führungen finden immer donnerstags um 17 Uhr und sonntags um 15 Uhr statt. Tickets sind 30 Minuten vor Führungsbeginn an den Museumskassen erhältlich. \nKosten: 2\,00 € zzgl. Museumseintritt\nTreffpunkt: Museumskasse \nInformation\nmuseumsdienst[at]mail.aachen.de\n+49 241 432 4998
URL:https://museumsdienst-aachen.de/event/oeffentliche-fuehrung-5/
LOCATION:Ludwig Forum für Internationale Kunst Aachen
CATEGORIES:Führung
END:VEVENT
BEGIN:VEVENT
DTSTART;TZID=Europe/Berlin:20230514T150000
DTEND;TZID=Europe/Berlin:20230514T160000
DTSTAMP:20260423T162600
CREATED:20230321T165037Z
LAST-MODIFIED:20230509T180122Z
UID:10006446-1684076400-1684080000@museumsdienst-aachen.de
SUMMARY:Öffentliche Führung
DESCRIPTION:Öffentliche Führungen finden immer donnerstags um 17 Uhr und sonntags um 15 Uhr statt. Tickets sind 30 Minuten vor Führungsbeginn an den Museumskassen erhältlich. \nKosten: 2\,00 € zzgl. Museumseintritt\nTreffpunkt: Museumskasse \nInformation\nmuseumsdienst[at]mail.aachen.de\n+49 241 432 4998
URL:https://museumsdienst-aachen.de/event/oeffentliche-fuehrung-181/
LOCATION:Ludwig Forum für Internationale Kunst Aachen
CATEGORIES:Führung
END:VEVENT
BEGIN:VEVENT
DTSTART;TZID=Europe/Berlin:20230514T140000
DTEND;TZID=Europe/Berlin:20230514T160000
DTSTAMP:20260423T162600
CREATED:20230328T170504Z
LAST-MODIFIED:20230509T180122Z
UID:10006452-1684072800-1684080000@museumsdienst-aachen.de
SUMMARY:Sonntagsmalerei
DESCRIPTION:An jedem zweiten Sonntag im Monat findet sonntags ein Workshop für Kinder und Erwachsene statt. Inspiriert durch die aktuellen Ausstellungen werden in der Werkstatt verschiedene Werkstoffe und künstlerische Techniken erprobt. \nKosten\nErwachsene: 8\,00 €\, zzgl. Museumseintritt\nKinder: 4\,00 € \nAktuelle Termine finden Sie in unserem Kalender. \nAlle Kurse im Ludwig Forum sind barrierefrei und inklusiv.\nFür individuelle Absprachen nehmen Sie bitte Kontakt mit dem Museumsdienst auf:\nmuseumsdienst[at]mail.aachen.de\n+49 241 432 4998
URL:https://museumsdienst-aachen.de/event/sonntagsmalerei/
LOCATION:Ludwig Forum für Internationale Kunst Aachen
CATEGORIES:Workshop
END:VEVENT
BEGIN:VEVENT
DTSTART;TZID=Europe/Berlin:20230511T170000
DTEND;TZID=Europe/Berlin:20230511T180000
DTSTAMP:20260423T162600
CREATED:20230404T165719Z
LAST-MODIFIED:20230509T180122Z
UID:10006484-1683824400-1683828000@museumsdienst-aachen.de
SUMMARY:Öffentliche Führung
DESCRIPTION:Öffentliche Führungen finden immer donnerstags um 17 Uhr und sonntags um 15 Uhr statt. Tickets sind 30 Minuten vor Führungsbeginn an den Museumskassen erhältlich. \nKosten: 2\,00 € zzgl. Museumseintritt\nTreffpunkt: Museumskasse \nInformation\nmuseumsdienst[at]mail.aachen.de\n+49 241 432 4998
URL:https://museumsdienst-aachen.de/event/oeffentliche-fuehrung-4/
LOCATION:Ludwig Forum für Internationale Kunst Aachen
CATEGORIES:Führung
END:VEVENT
BEGIN:VEVENT
DTSTART;TZID=Europe/Berlin:20230507T150000
DTEND;TZID=Europe/Berlin:20230507T160000
DTSTAMP:20260423T162600
CREATED:20230321T165036Z
LAST-MODIFIED:20230502T172840Z
UID:10006445-1683471600-1683475200@museumsdienst-aachen.de
SUMMARY:Öffentliche Führung
DESCRIPTION:Öffentliche Führungen finden immer donnerstags um 17 Uhr und sonntags um 15 Uhr statt. Tickets sind 30 Minuten vor Führungsbeginn an den Museumskassen erhältlich. \nKosten: 2\,00 € zzgl. Museumseintritt\nTreffpunkt: Museumskasse \nInformation\nmuseumsdienst[at]mail.aachen.de\n+49 241 432 4998
URL:https://museumsdienst-aachen.de/event/oeffentliche-fuehrung-180/
LOCATION:Ludwig Forum für Internationale Kunst Aachen
CATEGORIES:Führung
END:VEVENT
BEGIN:VEVENT
DTSTART;TZID=Europe/Berlin:20230504T170000
DTEND;TZID=Europe/Berlin:20230504T180000
DTSTAMP:20260423T162600
CREATED:20230404T165719Z
LAST-MODIFIED:20230502T172840Z
UID:10006483-1683219600-1683223200@museumsdienst-aachen.de
SUMMARY:Öffentliche Führung
DESCRIPTION:Öffentliche Führungen finden immer donnerstags um 17 Uhr und sonntags um 15 Uhr statt. Tickets sind 30 Minuten vor Führungsbeginn an den Museumskassen erhältlich. \nKosten: 2\,00 € zzgl. Museumseintritt\nTreffpunkt: Museumskasse \nInformation\nmuseumsdienst[at]mail.aachen.de\n+49 241 432 4998
URL:https://museumsdienst-aachen.de/event/oeffentliche-fuehrung-3/
LOCATION:Ludwig Forum für Internationale Kunst Aachen
CATEGORIES:Führung
END:VEVENT
BEGIN:VEVENT
DTSTART;TZID=Europe/Berlin:20230430T150000
DTEND;TZID=Europe/Berlin:20230430T160000
DTSTAMP:20260423T162600
CREATED:20230321T165031Z
LAST-MODIFIED:20230425T165719Z
UID:10006444-1682866800-1682870400@museumsdienst-aachen.de
SUMMARY:Öffentliche Führung
DESCRIPTION:Öffentliche Führungen finden immer donnerstags um 17 Uhr und sonntags um 15 Uhr statt. Tickets sind 30 Minuten vor Führungsbeginn an den Museumskassen erhältlich. \nKosten: 2\,00 € zzgl. Museumseintritt\nTreffpunkt: Museumskasse \nInformation\nmuseumsdienst[at]mail.aachen.de\n+49 241 432 4998
URL:https://museumsdienst-aachen.de/event/oeffentliche-fuehrung-179/
LOCATION:Ludwig Forum für Internationale Kunst Aachen
CATEGORIES:Führung
END:VEVENT
BEGIN:VEVENT
DTSTART;TZID=Europe/Berlin:20230429T103000
DTEND;TZID=Europe/Berlin:20230430T163000
DTSTAMP:20260423T162600
CREATED:20230303T092654Z
LAST-MODIFIED:20230418T165702Z
UID:10006396-1682764200-1682872200@museumsdienst-aachen.de
SUMMARY:Experiment Weiden
DESCRIPTION:In diesem Kurs wird ein Wochenende lang mit frisch geschnittenen Weidenruten experimentiert. Weidenruten sind äußerst biegsam und können geschält werden\, sodass die Rinden als flexibles Verbindungmaterial genutzt werden können. Als Anregung werden verschiedene experimentelle Knüpf-\, Flecht- und Bautechniken gezeigt\, die erprobt und variiert werden können und aus denen Formen und Oberflächen entstehen. Gearbeitet wird überwiegend draußen\, sodass sich je nach Witterung warme Kleidung empfiehlt. \nSa\, 29. und So\, 30.04.\njeweils von 10.30 bis 16.30 Uhr \nKosten: 60 € / ermäßigt 48 €\nDie Materialkosten sind in der Kursgebühr enthalten.\nMax. 10 Teilnehmer*innen \nInformation und Anmeldung\nmuseumsdienst[at]mail.aachen.de\n+49 241 432 4998 \nAlle Kurse im Ludwig Forum sind barrierefrei und inklusiv.\nFür individuelle Absprachen nehmen Sie bitte Kontakt mit dem Museumsdienst auf.
URL:https://museumsdienst-aachen.de/event/experiment-weiden/
LOCATION:Ludwig Forum für Internationale Kunst Aachen
CATEGORIES:Workshop
ATTACH;FMTTYPE=image/jpeg:https://museumsdienst-aachen.de/wp-content/uploads/2023/03/Weiden_Barbara-Brouwers_1-KYciOn.tmp_.jpg
END:VEVENT
BEGIN:VEVENT
DTSTART;TZID=Europe/Berlin:20230428T170000
DTEND;TZID=Europe/Berlin:20230428T180000
DTSTAMP:20260423T162600
CREATED:20230404T165653Z
LAST-MODIFIED:20230425T165718Z
UID:10006482-1682701200-1682704800@museumsdienst-aachen.de
SUMMARY:Öffentliche Führung
DESCRIPTION:Öffentliche Führungen finden immer donnerstags um 17 Uhr und sonntags um 15 Uhr statt. Tickets sind 30 Minuten vor Führungsbeginn an den Museumskassen erhältlich. \nKosten: 2\,00 € zzgl. Museumseintritt\nTreffpunkt: Museumskasse \nInformation\nmuseumsdienst[at]mail.aachen.de\n+49 241 432 4998
URL:https://museumsdienst-aachen.de/event/oeffentliche-fuehrung-2/
LOCATION:Ludwig Forum für Internationale Kunst Aachen
CATEGORIES:Führung
END:VEVENT
BEGIN:VEVENT
DTSTART;TZID=Europe/Berlin:20230423T150000
DTEND;TZID=Europe/Berlin:20230423T160000
DTSTAMP:20260423T162600
CREATED:20230321T165031Z
LAST-MODIFIED:20230418T165654Z
UID:10006443-1682262000-1682265600@museumsdienst-aachen.de
SUMMARY:Öffentliche Führung
DESCRIPTION:Öffentliche Führungen finden immer donnerstags um 17 Uhr und sonntags um 15 Uhr statt. Tickets sind 30 Minuten vor Führungsbeginn an den Museumskassen erhältlich. \nKosten: 2\,00 € zzgl. Museumseintritt\nTreffpunkt: Museumskasse \nInformation\nmuseumsdienst[at]mail.aachen.de\n+49 241 432 4998
URL:https://museumsdienst-aachen.de/event/oeffentliche-fuehrung-178/
LOCATION:Ludwig Forum für Internationale Kunst Aachen
CATEGORIES:Führung
END:VEVENT
BEGIN:VEVENT
DTSTART;TZID=Europe/Berlin:20230423T140000
DTEND;TZID=Europe/Berlin:20230423T160000
DTSTAMP:20260423T162600
CREATED:20230411T165745Z
LAST-MODIFIED:20230418T165654Z
UID:10006518-1682258400-1682265600@museumsdienst-aachen.de
SUMMARY:Familienbande
DESCRIPTION:Workshop für Großeltern und Kinder von 6 bis 10 Jahren \nGemeinsam Zeit verbringen und kreativ sein: Großeltern und Enkelkinder erkunden an jedem letzten Sonntag im Monat das Ludwig Forum\, um anschließend in der Werkstatt gemeinsam ein Kunstwerk zu erschaffen. Malen\, Zeichnen\, mit Ton oder anderen Materialien werken – ein unvergessliches Erlebnis. \nKosten: Erwachsene 8 €\, Kinder 4 €. zzgl. Museumseintritt \nInformation und Anmeldung\nmuseumsdienst@mail.aachen.de\n+49 241 432-4998
URL:https://museumsdienst-aachen.de/event/familienbande/
LOCATION:Ludwig Forum für Internationale Kunst Aachen
CATEGORIES:Workshop
END:VEVENT
BEGIN:VEVENT
DTSTART;TZID=Europe/Berlin:20230416T140000
DTEND;TZID=Europe/Berlin:20230416T160000
DTSTAMP:20260423T162600
CREATED:20230321T164653Z
LAST-MODIFIED:20230328T173318Z
UID:10006440-1681653600-1681660800@museumsdienst-aachen.de
SUMMARY:DEMO-Workshop
DESCRIPTION:DIY – Demo-Workshops in der Kunstwerkstatt\nAn jedem dritten Wochenende im Monat geben Künstler*innen\, Designer*innen und Kunsthistoriker*innen Einblicke in fachspezifische kreative Techniken. In 2-stündigen Demo-Workshops wird auf spezielle Werkstoffe und kreative Methoden eingegangen. Techniken und deren Gestaltungsmöglichkeiten werden demonstriert und können in kleinem Umfang ausprobiert werden. Mit diesem Angebot stellt das Ludwig Forum die vielseitigen Möglichkeiten in Museum und Kunstwerkstatt vor und gibt den Gästen Inspirationen für eigene Projekte mit auf den Weg. \nKosten 10 €\, zzgl. Museumseintritt \nAlle Kurse im Ludwig Forum sind barrierefrei und inklusiv. Für individuelle Absprachen nehmen Sie bitte Kontakt mit dem Museumsdienst auf. \nDEMO-Notan-Kontrastbilder\, 19.03.2023\, 14 – 16 Uhr\nmit der Künstlerin Maren Hoch \n \n„Notan“ ist Japanisch und bedeutet „dunkel-hell“. Mit den Techniken Scherenschnitt und Collage wird der Kontrast zwischen Schwarz und Weiß oder Farbe herausgearbeitet. Dabei ist die Hauptregel des Notan-Prinzips: Es darf nichts weggenommen und nichts hinzugefügt werden.
URL:https://museumsdienst-aachen.de/event/demo-workshop-12/
LOCATION:Ludwig Forum für Internationale Kunst Aachen
CATEGORIES:Workshop
END:VEVENT
BEGIN:VEVENT
DTSTART;TZID=Europe/Berlin:20230223T110000
DTEND;TZID=Europe/Berlin:20230223T120000
DTSTAMP:20260423T162600
CREATED:20230217T105147Z
LAST-MODIFIED:20230217T113028Z
UID:10006339-1677150000-1677153600@museumsdienst-aachen.de
SUMMARY:„Führung am Vormittag“
DESCRIPTION:Treffpunkt Museumskasse\nKosten: 2\,00 € zzgl. Museumseintritt \nInformation und Anmeldung:\nMuseumsdienst Aachen\nTel.: +49 241 432-4998\, museumsdienst@mail.aachen.de\nServicezeiten: Di\, Do\, Fr 09.00 – 14.00 Uhr und Mi 09.00 – 12.00 Uhr und 14.00 – 17.00 Uhr
URL:https://museumsdienst-aachen.de/event/fuehrung-am-vormittag-6/
LOCATION:Ludwig Forum für Internationale Kunst Aachen
ATTACH;FMTTYPE=image/jpeg:https://museumsdienst-aachen.de/wp-content/uploads/2023/02/2022.12.08_Ludwig-Forum-Aachen-42.web_-scaled-YPak6z.tmp_-scaled.jpg
END:VEVENT
BEGIN:VEVENT
DTSTART;TZID=Europe/Berlin:20220924T110000
DTEND;TZID=Europe/Berlin:20220924T110000
DTSTAMP:20260423T162600
CREATED:20220902T211236Z
LAST-MODIFIED:20220923T171149Z
UID:10005974-1664017200-1664017200@museumsdienst-aachen.de
SUMMARY:Book launch und Dialogführung mit Kerstin Brätsch\, Kerstin Stakemeier und Eva Birkenstock
DESCRIPTION:Zur Ausstellung Die Sein: Para Psychics erscheint das Künstlerinnenbuch Para Psychics im Verlag der Buchhandlung Walther und Franz König. Zu diesem Anlass laden wir Sie am Samstag\, den 24. September 2022\, um 11 Uhr zu einer Dialogführung mit Kerstin Brätsch\, Kerstin Stakemeier (Professorin für Kunsttheorie und -vermittlung\, Akademie der Bildenden Künste Nürnberg) und Eva Birkenstock ein.  Para Psychics\nHerausgegeben von Bettina Funcke\nMit Beiträgen von Báyò Akómoláfé\, Eva Birkenstock\, Kerstin Brätsch\, CAConrad\, Bettina Funcke\, Donna Haraway\, Inanna\, Lucretius\, Kerstin Stakemeier\, Zoe Stillpass\, Merlin Sheldrake\, und Michael Taussig \nIn englischer SpracheLudwig Forum Aachen und Verlag der Buchhandlung Walther und Franz König Während der Pandemie wechselte Kerstin Brätsch in einen langsameren\, nach innen gewandten Modus und kreierte die 100 dichten\, 28 x 35.5 cm großen Buntstift-Zeichnungen über einen Zeitraum von zwei Jahren. Die Para Psychics sind Zeitsammler\, jede angefüllt mit metaphysischen Traditionen\, die von Mythologie\, Tarot\, Symbolismus\, Mystik\, Astrologie\, Numerologie\, von Spiritismus bis zu Magie\, Kräuterkunde und Pflanzenmedizin reichen. Aufgeteilt in zwei Teile wird im ersten jede Zeichnung großzügig auf ihrer eigenen Doppelseite abgebildet und lädt die Betrachter*innen dazu ein\, in Brätschs tief ineinander verwobenen Kosmos einzutauchen. Der zweite Teil stellt die Zeichnungen in einen Dialog mit in Auftrag gegebenen Texten und wieder abgedruckten historischen Exzerpten\, einer Konstellation von Ideen\, die den Gedankenvorgang der Künstlerin beeinflusst haben. Die Leser*innen können verfolgen\, wie Brätsch besonders die weiblichen Aspekte der Sphären der Mystik\, Kunst\, Sozialgeschichte\, Poesie und Anthropologie aktiviert hat. Ein weiterer Beitrag von Brätsch und Funcke versammelt Bilder und Annotationen\, die beschreiben\, was diese mit den Zeichnungen und abgedruckten Textquellen verbinden\, womit auf die ineinander verwobenen und sich ständig verwandelnden Welten\, aus denen die Para Psychics entstanden sind\, verwiesen wird.
URL:https://museumsdienst-aachen.de/event/buchpremiere-mit-fuehrung-und-gespraech-mit-kerstin-braetsch-kerstin-stakemeier-und-eva-birkenstock/
LOCATION:Ludwig Forum für Internationale Kunst Aachen
CATEGORIES:Veranstaltung
ATTACH;FMTTYPE=image/jpeg:https://museumsdienst-aachen.de/wp-content/uploads/2022/09/website-cover-yg2Xdn.tmp_.jpg
END:VEVENT
END:VCALENDAR